BEGIN:VCALENDAR
VERSION:2.0
PRODID:-//eventon.com NONSGML v1.0//EN
CALSCALE:GREGORIAN
METHOD:PUBLISH
BEGIN:VEVENT
UID:69e6c7887c35b
DTSTAMP:20260421T004040Z
DTSTART:20230206T153000Z
DTEND:20230206T173000Z
LOCATION:Indiana State Museum 650 W. Washington St.
SUMMARY:Indiana State Museum Homeschool Day: Trip Around the USA
DESCRIPTION:Bring your child to the Indiana State Museum for a day of learn
 ing during this two-hour class and explore different topics in science\,  a
 rt\,  history and culture. Adults join their learners for an interactive fa
 mily experience. Take a trip around the United States without leaving India
 napolis! Learn about the history[..]\nhttps://indyschild.com/events/indiana
 -state-museum-homeschool-day-trip-around-the-usa/
URL:https://indyschild.com/events/indiana-state-museum-homeschool-day-trip-around-the-usa/
END:VEVENT
END:VCALENDAR