BEGIN:VCALENDAR
VERSION:2.0
PRODID:-//eventon.com NONSGML v1.0//EN
CALSCALE:GREGORIAN
METHOD:PUBLISH
BEGIN:VEVENT
UID:69e6d2b708559
DTSTAMP:20260421T012823Z
DTSTART:20231202T200000Z
DTEND:20231203T045000Z
LOCATION:Athenaeum 401 E Michigan Street\,  Indianapolis\,  IN 46204
SUMMARY:Krampusnacht
DESCRIPTION:According to legend and folklore\,  a mythical demon-goat beast
  arrives every year to scare and punish those who find themselves on the na
 ughty list. With its long fangs\,  menacing horns\,  and a switch made of b
 irch sticks\,  Krampus rules the night. This traditional Krampusnacht (Kram
 pus Night) celebration dates back hundreds[..]\nhttps://indyschild.com/even
 ts/krampusnacht/
URL:https://indyschild.com/events/krampusnacht/
END:VEVENT
END:VCALENDAR