BEGIN:VCALENDAR
VERSION:2.0
PRODID:-//eventon.com NONSGML v1.0//EN
CALSCALE:GREGORIAN
METHOD:PUBLISH
BEGIN:VEVENT
UID:69e73dc0e739b
DTSTAMP:20260421T090504Z
DTSTART:20221125T190000Z
DTEND:20221231T190000Z
LOCATION:Castleton Square Mall 6020 E 82nd StIndianapolis\,  IN 46250
SUMMARY:Dasher’s Lightshow
DESCRIPTION:A new&nbsp;Christmas light display&nbsp;is coming to the parkin
 g lot of Castleton Square Mall\,  located at 6020 E. 82nd St. in Indianapol
 is\,  for the holiday season. The Dasher’s Lightshow will allow families 
 from Nov. 25 – Dec. 31\,  2022\,  to experience holiday lights in a more 
 interactive and modern way than[..]\nhttps://indyschild.com/events/dashers-
 lightshow/
URL:https://indyschild.com/events/dashers-lightshow/
END:VEVENT
END:VCALENDAR