BEGIN:VCALENDAR
VERSION:2.0
PRODID:-//eventon.com NONSGML v1.0//EN
CALSCALE:GREGORIAN
METHOD:PUBLISH
BEGIN:VEVENT
UID:69e5a45458148
DTSTAMP:20260420T035812Z
DTSTART:20251129T220000Z
DTEND:20251129T233000Z
LOCATION:Main Street- Downtown Zionsville S Main StZionsville\,  IN 46077
SUMMARY:Christmas in the Village - Parade & Tree Lighting
DESCRIPTION:Zionsville’s holiday season begins with a family-friendly par
 ade that steps off from Eagle Elementary at 5:00 p.m. and makes its way thr
 ough town\,  finishing near Old National Bank around 6:00 p.m. Families can
  line the streets to watch festive floats\,  community groups\,  and marchi
 ng bands pass by as anticipation builds[..]\nhttps://indyschild.com/events/
 christmas-in-the-village-parade-day/
URL:https://indyschild.com/events/christmas-in-the-village-parade-day/
END:VEVENT
END:VCALENDAR