BEGIN:VCALENDAR
VERSION:2.0
PRODID:-//eventon.com NONSGML v1.0//EN
CALSCALE:GREGORIAN
METHOD:PUBLISH
BEGIN:VEVENT
UID:69eadd577e68f
DTSTAMP:20260424T030247Z
DTSTART:20231007T180000Z
DTEND:20231007T200000Z
LOCATION:Shadeland Station Shopping Center 7427 Shadeland AveIndianapolis\,  IN 46256
SUMMARY:North Shadeland Fall Festival
DESCRIPTION:Come and look for some familiar fun and booths and expect some 
 new and exciting things. The North Shadeland Fall Festival&nbsp;will be big
 ger and more fun than ever.\nhttps://indyschild.com/events/north-shadeland-
 fall-festival/
URL:https://indyschild.com/events/north-shadeland-fall-festival/
END:VEVENT
END:VCALENDAR