BEGIN:VCALENDAR
VERSION:2.0
PRODID:-//eventon.com NONSGML v1.0//EN
CALSCALE:GREGORIAN
METHOD:PUBLISH
BEGIN:VEVENT
UID:69eb7c14e63c4
DTSTAMP:20260424T142004Z
DTSTART:20220819T230000Z
DTEND:20220820T020000Z
LOCATION:Arbuckle Acres Park 200 N Green St\,  Brownsburg\,  IN 46112
SUMMARY:Movies in the Park - Sing 2
DESCRIPTION:Join the Brownsburg Parks and Recreation for an evening in the 
 park to watch Sing 2! A special guest will join us to lead a dance from the
  movie! &nbsp; Free to attend\,  Popcorn and drinks available for purchase.
  &nbsp;\nhttps://indyschild.com/events/movies-in-the-park-sing-2/
URL:https://indyschild.com/events/movies-in-the-park-sing-2/
END:VEVENT
END:VCALENDAR