BEGIN:VCALENDAR
VERSION:2.0
PRODID:-//eventon.com NONSGML v1.0//EN
CALSCALE:GREGORIAN
METHOD:PUBLISH
BEGIN:VEVENT
UID:69e7528a57732
DTSTAMP:20260421T103346Z
DTSTART:20220804T150000Z
DTEND:20220804T160000Z
LOCATION:uPaint Pottery Studio - Greenwood 3113 W. Smith Valley Rd\,  #D Greenwood\,  IN 46142
SUMMARY:uPaint a Story – Toddler/Preschool Story Time
DESCRIPTION:Calling all little artists!! Join us for a creative morning wit
 h your preschooler/toddler. Each artist will enjoy listening to story\,  pa
 inting a pencil container &#038; having snack. No reservation needed. To-go
  kits also available if you wish to paint at home! No reservation needed. C
 ost &#8211; $15 per painter uPaint[..]\nhttps://indyschild.com/events/upain
 t-a-story-toddler-preschool-story-time-13/
URL:https://indyschild.com/events/upaint-a-story-toddler-preschool-story-time-13/
END:VEVENT
END:VCALENDAR