BEGIN:VCALENDAR
VERSION:2.0
PRODID:-//eventon.com NONSGML v1.0//EN
CALSCALE:GREGORIAN
METHOD:PUBLISH
BEGIN:VEVENT
UID:69e5c0d3cf16e
DTSTAMP:20260420T055947Z
DTSTART:20220705T180000Z
DTEND:20220705T184500Z
LOCATION:Martindale-Brightwood Branch Library 2435 N. Sherman Drive Indianapolis\,  IN 46218
SUMMARY:Animal Shows with Silly Safaris (Copy)
DESCRIPTION:Go on a wild adventure with Silly Safaris in this sit-down 45-m
 inute live animal show! You’ll have the chance to see animals up close an
 d ask questions.\nhttps://indyschild.com/events/animal-shows-with-silly-saf
 aris-copy/
URL:https://indyschild.com/events/animal-shows-with-silly-safaris-copy/
END:VEVENT
END:VCALENDAR