BEGIN:VCALENDAR
VERSION:2.0
PRODID:-//eventon.com NONSGML v1.0//EN
CALSCALE:GREGORIAN
METHOD:PUBLISH
BEGIN:VEVENT
UID:69e8401df346e
DTSTAMP:20260422T032725Z
DTSTART:20240704T210000Z
DTEND:20240705T030000Z
LOCATION:Lions Park 115 South Elm Street\,  Zionsville IN 46077
SUMMARY:Zionsville Lions Park 4th of July Celebration
DESCRIPTION:The Zionsville Lions Club is happy to provide the annual 4th of
  July Celebration at Zionsville Lions Park! The Zionsville Lions Club is pr
 oud to provide this annual celebration in conjunction with the Town of Zion
 sville and the outstanding support of the Partners in the Park sponsors. Pa
 rking begins at[..]\nhttps://indyschild.com/events/zionsville-lions-park-4t
 h-of-july-celebration/
URL:https://indyschild.com/events/zionsville-lions-park-4th-of-july-celebration/
END:VEVENT
END:VCALENDAR