BEGIN:VCALENDAR
VERSION:2.0
PRODID:-//eventon.com NONSGML v1.0//EN
CALSCALE:GREGORIAN
METHOD:PUBLISH
BEGIN:VEVENT
UID:69ead6ea9844e
DTSTAMP:20260424T023522Z
DTSTART:20220721T230000Z
DTEND:20220722T030000Z
LOCATION:Taggart Memorial Amphitheatre at Riverside Park 1856 Burdsal Pkwy\,  Indianapolis\,  IN 46208
SUMMARY:Indianapolis Shakespeare Company | Ricky 3 - A Hip Hop Shakespeare Richard 3
DESCRIPTION:Doors open at 7pm. Show time is 8pm. Running time is approximat
 ely 2 hours and there is one intermission. Dates: JULY 21-23 &amp; JULY 28-
 30 The company\,  board\,  and staff at Indianapolis Shakespeare Company ar
 e elated to be back onstage this summer introducing a new art form\,  Hip H
 op Shakespeare![..]\nhttps://indyschild.com/events/indianapolis-shakespeare
 -company-ricky-3-a-hip-hop-shakespeare-richard-3/
URL:https://indyschild.com/events/indianapolis-shakespeare-company-ricky-3-a-hip-hop-shakespeare-richard-3/
END:VEVENT
END:VCALENDAR