BEGIN:VCALENDAR
VERSION:2.0
PRODID:-//eventon.com NONSGML v1.0//EN
CALSCALE:GREGORIAN
METHOD:PUBLISH
BEGIN:VEVENT
UID:69e96bdd97201
DTSTAMP:20260423T004621Z
DTSTART:20250830T130000Z
DTEND:20250830T160000Z
LOCATION:Glendale Town Center Parking Lot East of Lowes 6001 N. Rural Street\,  Indianapolis\,  IN 46220
SUMMARY:Broad Ripple Farmers’ Market
DESCRIPTION:The Broad Ripple Farmers Market (BRFM) is committed to supporti
 ng locally grown and produced foods. The Market brings the greater Broad Ri
 pple community the very best and freshest of each season. Preordering is av
 ailable from many vendors\,  and all vendors have product available to purc
 hase at the market. The Market[..]\nhttps://indyschild.com/events/broad-rip
 ple-farmers-market/var/ri-17.l-L1
URL:https://indyschild.com/events/broad-ripple-farmers-market/var/ri-17.l-L1
END:VEVENT
END:VCALENDAR