BEGIN:VCALENDAR
VERSION:2.0
PRODID:-//eventon.com NONSGML v1.0//EN
CALSCALE:GREGORIAN
METHOD:PUBLISH
BEGIN:VEVENT
UID:69ed58ec49bc3
DTSTAMP:20260426T001436Z
DTSTART:20220430T150000Z
DTEND:20220430T190000Z
LOCATION:Osteria by Fabio Viviani  11505 N. Illinois St. Carmel\,  IN 46032
SUMMARY:Celeb-Chef Fabio Viviani Meet-and-Greet Lunch
DESCRIPTION:Top Chef personality Chef Fabio Viviani and the Osteria by Fabi
 o Viviani team welcome Hoosiers for a meet-and-greet lunch at Carmel’s ne
 west Italian restaurant on Saturday\,  April 30 from 11a.m. – 3p.m. Durin
 g lunch guests will have the opportunity to meet and chat with Fabio Vivian
 i\,  enjoy delicious scratch-made food[..]\nhttps://indyschild.com/events/c
 eleb-chef-fabio-viviani-meet-and-greet-lunch/
URL:https://indyschild.com/events/celeb-chef-fabio-viviani-meet-and-greet-lunch/
END:VEVENT
END:VCALENDAR