BEGIN:VCALENDAR
VERSION:2.0
PRODID:-//eventon.com NONSGML v1.0//EN
CALSCALE:GREGORIAN
METHOD:PUBLISH
BEGIN:VEVENT
UID:69e7563483061
DTSTAMP:20260421T104924Z
DTSTART:20220326T130000Z
DTEND:20220326T163000Z
LOCATION:The AMP 1220 Waterway Blvd\,  Indianapolis\,  IN 46202
SUMMARY:Indy Winter Farmers Market
DESCRIPTION:Get your farm fix in the off-season with local produce and good
 s during the winter months. Visitors will find items ranging from hydroponi
 c greens to maple syrup. Open Saturdays 9 a.m.-12:30 p.m.\nhttps://indyschi
 ld.com/events/indy-winter-farmers-market/
URL:https://indyschild.com/events/indy-winter-farmers-market/
END:VEVENT
END:VCALENDAR