BEGIN:VCALENDAR
VERSION:2.0
PRODID:-//eventon.com NONSGML v1.0//EN
CALSCALE:GREGORIAN
METHOD:PUBLISH
BEGIN:VEVENT
UID:69e739ac243ff
DTSTAMP:20260421T084740Z
DTSTART:20220129T233000Z
DTEND:20220130T013000Z
LOCATION:Holliday Park Holliday Park\,  6363 Spring Mill Rd
SUMMARY:Owl Prowl Night Hike
DESCRIPTION:Owl Prowl Night Hikes are part of the Owl Prowl Weekend at H
 olliday Park where staff is providing various ways you can learn about and
  discover these amazing creatures. Sign up for a night hike\,  enjoy a free
  craft\,  learn to ID birds\,  or explore fellow nocturnal animals! Owl Pro
 wl Night Hikes: Join us[..]\nhttps://indyschild.com/events/owl-prowl-night-
 hike/
URL:https://indyschild.com/events/owl-prowl-night-hike/
END:VEVENT
END:VCALENDAR