BEGIN:VCALENDAR
VERSION:2.0
PRODID:-//eventon.com NONSGML v1.0//EN
CALSCALE:GREGORIAN
METHOD:PUBLISH
BEGIN:VEVENT
UID:69e99634670ff
DTSTAMP:20260423T034700Z
DTSTART:20220106T230000Z
DTEND:20220106T233000Z
LOCATION:Fishers Library 5 Municipal Drive\,  Fishers\,  IN
SUMMARY:Teddy Bear Sleepover
DESCRIPTION:Come dressed in your pjs and bring your second favorite stuffed
  buddy! There will be stories\,  songs and a bedtime snack. You will tuck i
 n your buddy for a special sleepover just for them. Come back at 10 a.m. th
 e next morning to see if any of them slept or[..]\nhttps://indyschild.com/e
 vents/teddy-bear-sleepover-2/
URL:https://indyschild.com/events/teddy-bear-sleepover-2/
END:VEVENT
END:VCALENDAR