BEGIN:VCALENDAR
VERSION:2.0
PRODID:-//eventon.com NONSGML v1.0//EN
CALSCALE:GREGORIAN
METHOD:PUBLISH
BEGIN:VEVENT
UID:69e7524e2cab9
DTSTAMP:20260421T103246Z
DTSTART:20211204T000000Z
DTEND:20211204T004500Z
LOCATION:Cool Creek Nature Center 2000-1 E 151st St Carmel IN 46033
SUMMARY:Pajama-Rama
DESCRIPTION:Put on your cutest pair of pajamas\,  grab your favorite teddy 
 bear\,  pack up a blanket\,  and join us for Pajama-Rama! Families looking 
 for a fun program to enjoy with their toddlers and preschoolers will love t
 he music educator from Moriah Music\,  who will lead us in songs and storie
 s[..]\nhttps://indyschild.com/events/pajama-rama-3/
URL:https://indyschild.com/events/pajama-rama-3/
END:VEVENT
END:VCALENDAR