BEGIN:VCALENDAR
VERSION:2.0
PRODID:-//eventon.com NONSGML v1.0//EN
CALSCALE:GREGORIAN
METHOD:PUBLISH
BEGIN:VEVENT
UID:69e8cc8db54b8
DTSTAMP:20260422T132637Z
DTSTART:20211202T230000Z
DTEND:20211203T000000Z
LOCATION:Monon Community Center 1235 Central Park Drive East Carmel\,  IN 46032
SUMMARY:All About Owls
DESCRIPTION:Who\,  who\,  who wants to learn all about Indiana owls? Owls b
 egin nesting in late January or early February\,  so this is a perfect time
  to spot owls establishing their nesting territories. You will dissect an o
 wl pellet\,  looking for teeny tiny bones to discover what the owl ate for[
 ..]\nhttps://indyschild.com/events/all-about-owls/
URL:https://indyschild.com/events/all-about-owls/
END:VEVENT
END:VCALENDAR