BEGIN:VCALENDAR
VERSION:2.0
PRODID:-//eventon.com NONSGML v1.0//EN
CALSCALE:GREGORIAN
METHOD:PUBLISH
BEGIN:VEVENT
UID:69e62004511c8
DTSTAMP:20260420T124556Z
DTSTART:20211030T200000Z
DTEND:20211030T230000Z
LOCATION:Marion County Fairgrounds 7300 East Troy Avenue\,  Indianapolis\,  IN 46203
SUMMARY:No Tricks Just Treats
DESCRIPTION:Wear your costume and head to the Marion County Fair Fairground
 s for family-friendly Halloween event. Paint a pumpkin\,  face painting\,  
 games\,  prizes\,  &amp; Halloween movies!&nbsp;&nbsp; Price: $5 per car\nh
 ttps://indyschild.com/events/no-tricks-just-treats/
URL:https://indyschild.com/events/no-tricks-just-treats/
END:VEVENT
END:VCALENDAR