BEGIN:VCALENDAR
VERSION:2.0
PRODID:-//eventon.com NONSGML v1.0//EN
CALSCALE:GREGORIAN
METHOD:PUBLISH
BEGIN:VEVENT
UID:69ead71812b2d
DTSTAMP:20260424T023608Z
DTSTART:20210929T143000Z
DTEND:20210929T150000Z
LOCATION:West Perry Branch Library 6650 S Harding St\,  Indianapolis\,  IN 46217
SUMMARY:Preschool Storytime
DESCRIPTION:Preschoolers and an adult are invited for stories\,  songs\,  g
 ames and rhymes with a craft afterwards.\nhttps://indyschild.com/events/pre
 school-storytime-6/
URL:https://indyschild.com/events/preschool-storytime-6/
END:VEVENT
END:VCALENDAR