BEGIN:VCALENDAR
VERSION:2.0
PRODID:-//eventon.com NONSGML v1.0//EN
CALSCALE:GREGORIAN
METHOD:PUBLISH
BEGIN:VEVENT
UID:69ecd6a2c579d
DTSTAMP:20260425T145842Z
DTSTART:20211030T150000Z
DTEND:20211030T180000Z
LOCATION:White River State Park 801 W Washington St.\,  Indianapolis\,  IN 46204
SUMMARY:Yappy Hour Howl-O-Ween
DESCRIPTION:This FREE pup and family friendly outdoor happy hour is focused
  on bringing the Indianapolis community together with music\,  food\,  yard
  games\,  local dog vendors\,  dog training demos\,  and drinks.\nhttps://i
 ndyschild.com/events/yappy-hour-howl-o-ween/
URL:https://indyschild.com/events/yappy-hour-howl-o-ween/
END:VEVENT
END:VCALENDAR