BEGIN:VCALENDAR
VERSION:2.0
PRODID:-//eventon.com NONSGML v1.0//EN
CALSCALE:GREGORIAN
METHOD:PUBLISH
BEGIN:VEVENT
UID:69e9f938afdcd
DTSTAMP:20260423T104928Z
DTSTART:19700101T050000Z
DTEND:19700101T050000Z
LOCATION:Neusole Glassworks 11925 Kemper Springs Dr
SUMMARY:St. Patrick's Day Mug
DESCRIPTION:For the whole month of March make mugs to celebrate St. Patrick
 &#8217;s Day. With the help of our professional glassblowers\,  you will bl
 ow hot molten glass into glass mugs for St. Patrick&#8217;s Day\,  Must be 
 12 years or older. Reservations required by phone (513-751-3292. Scheduled 
 in 30 minute increments per[..]\nhttps://indyschild.com/events/st-patricks-
 day-mug-2/
URL:https://indyschild.com/events/st-patricks-day-mug-2/
END:VEVENT
END:VCALENDAR