BEGIN:VCALENDAR
VERSION:2.0
PRODID:-//eventon.com NONSGML v1.0//EN
CALSCALE:GREGORIAN
METHOD:PUBLISH
BEGIN:VEVENT
UID:69e694f0f3ad2
DTSTAMP:20260420T210448Z
DTSTART:20260923T140000Z
DTEND:20260923T150000Z
LOCATION:Indiana State Museum 650 W. Washington St.
SUMMARY:Toddler Time: Movin’ and Groovin’
DESCRIPTION:During this one-hour program our youngest visitors will enjoy c
 ircle time\,  story time\,  station explorations and movement time in our e
 arly childhood space\,  Firefly Landing. Caregivers will learn alongside th
 eir children as they practice skills like problem-solving and social-emotio
 nal communication while developing their fine and gross motor skills throug
 h play-based\, [..]\nhttps://indyschild.com/events/toddler-time-movin-and-g
 roovin/
URL:https://indyschild.com/events/toddler-time-movin-and-groovin/
END:VEVENT
END:VCALENDAR