BEGIN:VCALENDAR
VERSION:2.0
PRODID:-//eventon.com NONSGML v1.0//EN
CALSCALE:GREGORIAN
METHOD:PUBLISH
BEGIN:VEVENT
UID:69e694a40dc58
DTSTAMP:20260420T210332Z
DTSTART:20260918T140000Z
DTEND:20260919T210000Z
LOCATION:Indiana State Museum 650 W. Washington St.
SUMMARY:Tinkerfest
DESCRIPTION:Tinkerfest is a *two-day celebration of curiosity and creativit
 y for all ages! Explore more than 30 interactive\,  hands-on activities hos
 ted by community exhibitors designed to engage and inspire your inner build
 er\,  coder\,  scientist\,  artist and tinkerer. Each activity invites chil
 dren and families to make\,  invent and play! As part of[..]\nhttps://indys
 child.com/events/tinkerfest-4/
URL:https://indyschild.com/events/tinkerfest-4/
END:VEVENT
END:VCALENDAR