BEGIN:VCALENDAR
VERSION:2.0
PRODID:-//eventon.com NONSGML v1.0//EN
CALSCALE:GREGORIAN
METHOD:PUBLISH
BEGIN:VEVENT
UID:69e694dcefc32
DTSTAMP:20260420T210428Z
DTSTART:20260925T140000Z
DTEND:20260926T200000Z
LOCATION:Hendricks County Fairgrounds 1900 E\,  Main Danville Indiana 46122
SUMMARY:The City Mercantile - Autumn Market | Handmade & Vintage\,  Boutiques\,  Food Trucks\,  Fall Festival
DESCRIPTION:The City Mercantile — Autumn Market Celebrate the season at a
  fall festival filled with cozy finds\,  local shopping\,  and a full day o
 f fun for the whole family. The Autumn Market at the Hendricks County Fairg
 rounds brings together a vibrant mix of vintage vendors\,  handmade goods\,
   boutiques\,  and small[..]\nhttps://indyschild.com/events/the-city-mercan
 tile-autumn-market-handmade-vintage-boutiques-food-trucks-fall-festival/
URL:https://indyschild.com/events/the-city-mercantile-autumn-market-handmade-vintage-boutiques-food-trucks-fall-festival/
END:VEVENT
END:VCALENDAR