BEGIN:VCALENDAR
VERSION:2.0
PRODID:-//eventon.com NONSGML v1.0//EN
CALSCALE:GREGORIAN
METHOD:PUBLISH
BEGIN:VEVENT
UID:69e694c8e322d
DTSTAMP:20260420T210408Z
DTSTART:20260502T140000Z
DTEND:20260502T160000Z
LOCATION:Bierman Autism Centers - Westfield 16414 Southpark Dr.\,  Westfield\,  Indiana 46074
SUMMARY:FREE Sensory-Friendly Petting Zoo in Westfield!
DESCRIPTION:Bierman Autism Centers in Westfield is hosting Spring on the Fa
 rm\,  a free sensory-friendly outdoor petting zoo designed especially for c
 hildren with autism ages 2–9\,  though all families are welcome. Kids can
  meet animals like an alpaca\,  mini horse\,  baby calf\,  goats\,  sheep\,
   bunnies\,  ducks\,  and chickens in a calm[..]\nhttps://indyschild.com/ev
 ents/free-sensory-friendly-petting-zoo-in-westfield/
URL:https://indyschild.com/events/free-sensory-friendly-petting-zoo-in-westfield/
END:VEVENT
END:VCALENDAR