BEGIN:VCALENDAR
VERSION:2.0
PRODID:-//eventon.com NONSGML v1.0//EN
CALSCALE:GREGORIAN
METHOD:PUBLISH
BEGIN:VEVENT
UID:69ec97940bd44
DTSTAMP:20260425T102940Z
DTSTART:20250830T230000Z
DTEND:20250831T030000Z
LOCATION:Newfields 4000 N Michigan Rd\,  Indianapolis\,  IN 46208
SUMMARY:Newfields Summer Nights: To Catch a Thief 
DESCRIPTION:The beloved summer tradition\,  The National Bank of Indianapol
 is Summer Nights Film Series returns to Newfields on Fridays and select S
 aturdays this June\,  July\,  and August. Bring your friends and family and
  watch movies under the stars at Newfields. All you need is a chair or a bl
 anket; concessions and beverages will[..]\nhttps://indyschild.com/events/ne
 wfields-summer-nights-to-catch-a-thief/
URL:https://indyschild.com/events/newfields-summer-nights-to-catch-a-thief/
END:VEVENT
END:VCALENDAR