BEGIN:VCALENDAR
VERSION:2.0
PRODID:-//eventon.com NONSGML v1.0//EN
CALSCALE:GREGORIAN
METHOD:PUBLISH
BEGIN:VEVENT
UID:69eaa3cea0f6d
DTSTAMP:20260423T225718Z
DTSTART:20250115T153000Z
DTEND:20250115T163000Z
LOCATION:Cool Creek Nature Center 2000-1 E 151st St Carmel IN 46033
SUMMARY:Indiana Rocks
DESCRIPTION:Explore the factors that shaped our state’s distinctive geolo
 gy\,  from its rolling dunes and intricate cave systems to ancient fossils 
 and sparkling geodes. Discover why Indiana is home to some of the richest f
 armland in the region. Ages 8+. Registration is not required.\nhttps://indy
 schild.com/events/indiana-rocks/
URL:https://indyschild.com/events/indiana-rocks/
END:VEVENT
END:VCALENDAR