BEGIN:VCALENDAR
VERSION:2.0
PRODID:-//eventon.com NONSGML v1.0//EN
CALSCALE:GREGORIAN
METHOD:PUBLISH
BEGIN:VEVENT
UID:69ebd357c1af5
DTSTAMP:20260424T203223Z
DTSTART:20250906
DTEND:20250907
LOCATION:Victory Field 501 W Maryland St\,  Indianapolis\,  IN 46225
SUMMARY:Cosmic Takeover Tour
DESCRIPTION:The date has been set for Cosmic Baseball to be played at Victo
 ry Field! Turn out the lights and mark your calendar for Saturday\,  Sept. 
 6\,  2025\,  when the viral sports sensation of the 2024 summer blasts its 
 way to the Vic. Prepare to be amazed as the Tri-City Chili[..]\nhttps://ind
 yschild.com/events/cosmic-takeover-tour/
URL:https://indyschild.com/events/cosmic-takeover-tour/
END:VEVENT
END:VCALENDAR