BEGIN:VCALENDAR
VERSION:2.0
PRODID:-//eventon.com NONSGML v1.0//EN
CALSCALE:GREGORIAN
METHOD:PUBLISH
BEGIN:VEVENT
UID:69e8ff5d36470
DTSTAMP:20260422T170325Z
DTSTART:20241018T210000Z
DTEND:20241018T230000Z
LOCATION:IKEA Fishers 11400 IKEA Way\,  46037
SUMMARY:Bracelets with Friends
DESCRIPTION:Hey pop star fans! Want to make friendship bracelets with your 
 besties? Join us on October 18 in the IKEA Swedish Restuarant for our Brace
 lets with Friends craft. IKEA Family members will be able to enjoy a free f
 riendship bracelet craft\,  tasty snacks\,  and a pop star inspired selfie 
 station.[..]\nhttps://indyschild.com/events/bracelets-with-friends/
URL:https://indyschild.com/events/bracelets-with-friends/
END:VEVENT
END:VCALENDAR