BEGIN:VCALENDAR
VERSION:2.0
PRODID:-//eventon.com NONSGML v1.0//EN
CALSCALE:GREGORIAN
METHOD:PUBLISH
BEGIN:VEVENT
UID:69ea14108dfb8
DTSTAMP:20260423T124400Z
DTSTART:20241023T230000Z
DTEND:20241024T000000Z
LOCATION:Indiana State Museum 650 W. Washington St.
SUMMARY:Twilight Tales: Strange Encounters (ages 6 )
DESCRIPTION:Join us – in the dark – for a night of family friendly myst
 ery and spooky intrigue! Decorate your own candy bag\,  help solve a myster
 y as we decode puzzles\,  and find hidden clues throughout the galleries as
  we explore the museum by flashlight. Costumes are encouraged! Flashlights 
 will be[..]\nhttps://indyschild.com/events/twilight-tales-strange-encounter
 s-ages-6-3/
URL:https://indyschild.com/events/twilight-tales-strange-encounters-ages-6-3/
END:VEVENT
END:VCALENDAR