BEGIN:VCALENDAR
VERSION:2.0
PRODID:-//eventon.com NONSGML v1.0//EN
CALSCALE:GREGORIAN
METHOD:PUBLISH
BEGIN:VEVENT
UID:69e50594a127d
DTSTAMP:20260419T164052Z
DTSTART:20241018T130000Z
DTEND:20241018T140000Z
LOCATION:Indiana State Museum 650 W. Washington St.
SUMMARY:Good Night Forest Early Morning Play Group (ages 6 and younger)
DESCRIPTION:Immerse yourself in the fun of nighttime … in the early morni
 ng! Before the museum opens to the public\,  young children and their careg
 ivers can explore\,  play together and interact with other families at Good
  Night Forest\,  our newest nature-inspired experience created especially f
 or little ones. Come find your place[..]\nhttps://indyschild.com/events/goo
 d-night-forest-early-morning-play-group-ages-6-and-younger-2/
URL:https://indyschild.com/events/good-night-forest-early-morning-play-group-ages-6-and-younger-2/
END:VEVENT
END:VCALENDAR