BEGIN:VCALENDAR
VERSION:2.0
PRODID:-//eventon.com NONSGML v1.0//EN
CALSCALE:GREGORIAN
METHOD:PUBLISH
BEGIN:VEVENT
UID:69ea89c2c384c
DTSTAMP:20260423T210610Z
DTSTART:20240607
DTEND:20240608
LOCATION:Washington Park City Hall & 100 E. Michigan\,  Michigan City\,  IN 46360
SUMMARY:Singing Sands Sand Sculpting Festival
DESCRIPTION:The Singing Sands Sand Sculpting Festival is a three-day celebr
 ation\,  showcasing Michigan City&#8217;s stunning lakefront and beach. Thi
 s event is highlighted by a professional sand sculpting competition and exh
 ibition\,  which attracts some of the globe’s most skilled and recognized
  sand sculptors. Participants will craft extraordinary pieces of art using 
 the[..]\nhttps://indyschild.com/events/singing-sands-sand-sculpting-festiva
 l/
URL:https://indyschild.com/events/singing-sands-sand-sculpting-festival/
END:VEVENT
END:VCALENDAR