BEGIN:VCALENDAR
VERSION:2.0
PRODID:-//eventon.com NONSGML v1.0//EN
CALSCALE:GREGORIAN
METHOD:PUBLISH
BEGIN:VEVENT
UID:69eb9e28aea49
DTSTAMP:20260424T164528Z
DTSTART:20230823T150000Z
DTEND:20230823T230000Z
LOCATION:IKEA Fishers 11400 IKEA Way\,  46037
SUMMARY:Kids Eat Free Wednesdays at IKEA Fishers
DESCRIPTION:IKEA Family members receive 2 free kid&#8217;s entrees with pur
 chase of adult entree! Join us at IKEA Fishers on every Wednesday in the IK
 EA Swedish Restaurant. Plus\,  checkout our IKEA 80th Anniversary Sale\,  n
 ow until September 5\,  2023. *Must be/signup for the FREE IKEA Family memb
 ership. Valid in the U.S.[..]\nhttps://indyschild.com/events/kids-eat-free-
 wednesdays-at-ikea-fishers-3/
URL:https://indyschild.com/events/kids-eat-free-wednesdays-at-ikea-fishers-3/
END:VEVENT
END:VCALENDAR