BEGIN:VCALENDAR
VERSION:2.0
PRODID:-//eventon.com NONSGML v1.0//EN
CALSCALE:GREGORIAN
METHOD:PUBLISH
BEGIN:VEVENT
UID:69ec1f17bf95f
DTSTAMP:20260425T015535Z
DTSTART:20230603T150000Z
DTEND:20230603T180000Z
LOCATION:West Perry Branch Library 6650 S Harding St\,  Indianapolis\,  IN 46217
SUMMARY:West Perry Branch Summer Reading Kickoff and 150th Anniversary Celebration
DESCRIPTION:Come celebrate the 2023 Summer Reading Program and the 150th An
 niversary of IndyPL! A special treat and fun drop in activities will be pro
 vided for all patrons who visit the branch. At 11 a.m. Lusk Entertainment w
 ill be presenting a space-themed magic show. This program is limited to roo
 m capacity.[..]\nhttps://indyschild.com/events/west-perry-branch-summer-rea
 ding-kickoff-and-150th-anniversary-celebration/
URL:https://indyschild.com/events/west-perry-branch-summer-reading-kickoff-and-150th-anniversary-celebration/
END:VEVENT
END:VCALENDAR