BEGIN:VCALENDAR
VERSION:2.0
PRODID:-//eventon.com NONSGML v1.0//EN
CALSCALE:GREGORIAN
METHOD:PUBLISH
BEGIN:VEVENT
UID:69e6326b4ffbc
DTSTAMP:20260420T140427Z
DTSTART:20230714T223000Z
DTEND:20230715T010000Z
LOCATION:Grand Junction Plaza 225 S. Union St\,  Westfield\,  IN 46074
SUMMARY:Jams at the Junction: Living Proof
DESCRIPTION:Westfield Welcome announces the inaugural Jams at the Junction 
 concert series for the Summer of 2023 on select Fridays from June through S
 eptember. These delightful concerts take place on select Fridays during the
  summer season\,  offering an exceptional evening of entertainment. At ever
 y concert\,  the music kicks off at 7[..]\nhttps://indyschild.com/events/ja
 ms-at-the-junction-lineup/var/ri-1.l-L1
URL:https://indyschild.com/events/jams-at-the-junction-lineup/var/ri-1.l-L1
END:VEVENT
END:VCALENDAR