BEGIN:VCALENDAR
VERSION:2.0
PRODID:-//eventon.com NONSGML v1.0//EN
CALSCALE:GREGORIAN
METHOD:PUBLISH
BEGIN:VEVENT
UID:69e74d3e5c805
DTSTAMP:20260421T101110Z
DTSTART:20230624T180000Z
DTEND:20230624T203000Z
LOCATION:Kemp Church 228 N Main Street\,  Tipton\,  IN 46072
SUMMARY:GlitzUp "Shining from the Inside Out" Girls Ages 5-12 FREE Outreach Event
DESCRIPTION:The event is geared towards creating a safe space for girls to 
 have fun\,  be pampered and treated like princesses\,  as well as develop t
 heir character as they learn about ways to &#8220;shine from the inside out
 &#8221;&#8230; choosing kindness over other options. We also want to bring 
 an end to[..]\nhttps://indyschild.com/events/glitzup-shining-from-the-insid
 e-out-girls-ages-5-12-free-outreach-event/
URL:https://indyschild.com/events/glitzup-shining-from-the-inside-out-girls-ages-5-12-free-outreach-event/
END:VEVENT
END:VCALENDAR