BEGIN:VCALENDAR
VERSION:2.0
PRODID:-//eventon.com NONSGML v1.0//EN
CALSCALE:GREGORIAN
METHOD:PUBLISH
BEGIN:VEVENT
UID:69eadf5959fc6
DTSTAMP:20260424T031121Z
DTSTART:20230302T160000Z
DTEND:20230302T180000Z
LOCATION:uPaint Pottery Studio - Plainfield 1820 East Main Street Plainfield Indiana 46168
SUMMARY:uPaint A Story - Toddler/Preschool Story Time
DESCRIPTION:Join us for our next toddler/preschool story time! This month w
 e will be reading The Little Blue Truck\,  painting a truck and a tile to d
 rive it on\,  and enjoying a snack. We can’t wait to paint with you! No r
 eservation needed. Cost &#8211; $15 per painter uPaint Pottery Studio[..]\n
 https://indyschild.com/events/upaint-a-story-toddler-preschool-story-time-1
 8/
URL:https://indyschild.com/events/upaint-a-story-toddler-preschool-story-time-18/
END:VEVENT
END:VCALENDAR