BEGIN:VCALENDAR
VERSION:2.0
PRODID:-//eventon.com NONSGML v1.0//EN
CALSCALE:GREGORIAN
METHOD:PUBLISH
BEGIN:VEVENT
UID:69e9e610f0690
DTSTAMP:20260423T092744Z
DTSTART:20230211T050000Z
DTEND:20230212T045000Z
LOCATION:AMC Indianapolis 17 4325 S Meridian St\,  Indianapolis\,  Indiana 46217
SUMMARY:Sensory Friendly Movie: Puss In Boots: The Last Wish
DESCRIPTION:Enjoy the magic of the movies every month in an environment tha
 t’s a little quieter and a little brighter. Getting up to dance\,  walk\,
   shout and sing is all part of the experience at an AMC Sensory Friendly F
 ilm. AMC is proud to partner with the Autism Society to offer[..]\nhttps://
 indyschild.com/events/sensory-friendly-movie-puss-in-boots-the-last-wish/
URL:https://indyschild.com/events/sensory-friendly-movie-puss-in-boots-the-last-wish/
END:VEVENT
END:VCALENDAR