BEGIN:VCALENDAR
VERSION:2.0
PRODID:-//eventon.com NONSGML v1.0//EN
CALSCALE:GREGORIAN
METHOD:PUBLISH
BEGIN:VEVENT
UID:69e74d43565ce
DTSTAMP:20260421T101115Z
DTSTART:20260320T140000Z
DTEND:20260320T150000Z
LOCATION:Eagle Creek Park Earth Discovery Center  5901 Delong Rd.\,  Indianapolis\,  IN 46254
SUMMARY:Story Time on the Reservoir
DESCRIPTION:Young explorers start with a short\,  nature-themed story\,  th
 en move through hands-on stations at their own pace. Activities change week
  to week and may include puppets\,  coloring pages\,  simple art projects\,
   tabletop games or active play\,  and occasional animal encounters tied to
  the theme. Stations are designed so families can[..]\nhttps://indyschild.c
 om/events/story-time-on-the-reservoir/var/ri-5.l-L1
URL:https://indyschild.com/events/story-time-on-the-reservoir/var/ri-5.l-L1
END:VEVENT
END:VCALENDAR